BEGIN:VCALENDAR
VERSION:2.0
PRODID:-//MCC Tulsa - ECPv6.15.20//NONSGML v1.0//EN
CALSCALE:GREGORIAN
METHOD:PUBLISH
X-WR-CALNAME:MCC Tulsa
X-ORIGINAL-URL:https://mcctulsa.com
X-WR-CALDESC:Events for MCC Tulsa
REFRESH-INTERVAL;VALUE=DURATION:PT1H
X-Robots-Tag:noindex
X-PUBLISHED-TTL:PT1H
BEGIN:VTIMEZONE
TZID:America/Chicago
BEGIN:DAYLIGHT
TZOFFSETFROM:-0600
TZOFFSETTO:-0500
TZNAME:CDT
DTSTART:20250309T080000
END:DAYLIGHT
BEGIN:STANDARD
TZOFFSETFROM:-0500
TZOFFSETTO:-0600
TZNAME:CST
DTSTART:20251102T070000
END:STANDARD
BEGIN:DAYLIGHT
TZOFFSETFROM:-0600
TZOFFSETTO:-0500
TZNAME:CDT
DTSTART:20260308T080000
END:DAYLIGHT
BEGIN:STANDARD
TZOFFSETFROM:-0500
TZOFFSETTO:-0600
TZNAME:CST
DTSTART:20261101T070000
END:STANDARD
BEGIN:DAYLIGHT
TZOFFSETFROM:-0600
TZOFFSETTO:-0500
TZNAME:CDT
DTSTART:20270314T080000
END:DAYLIGHT
BEGIN:STANDARD
TZOFFSETFROM:-0500
TZOFFSETTO:-0600
TZNAME:CST
DTSTART:20271107T070000
END:STANDARD
END:VTIMEZONE
BEGIN:VEVENT
DTSTART;VALUE=DATE:20260510
DTEND;VALUE=DATE:20260511
DTSTAMP:20260423T094558
CREATED:20260207T191342Z
LAST-MODIFIED:20260207T191342Z
UID:1339-1778371200-1778457599@mcctulsa.com
SUMMARY:Mother's Day
DESCRIPTION:
URL:https://mcctulsa.com/event/mothers-day/
END:VEVENT
BEGIN:VEVENT
DTSTART;VALUE=DATE:20260523
DTEND;VALUE=DATE:20260526
DTSTAMP:20260423T094558
CREATED:20260207T191746Z
LAST-MODIFIED:20260207T191931Z
UID:1345-1779494400-1779753599@mcctulsa.com
SUMMARY:Myanmar World Cup USA
DESCRIPTION:
URL:https://mcctulsa.com/event/myanmar-world-cup-usa/
END:VEVENT
BEGIN:VEVENT
DTSTART;VALUE=DATE:20260524
DTEND;VALUE=DATE:20260525
DTSTAMP:20260423T094558
CREATED:20260207T191417Z
LAST-MODIFIED:20260207T191417Z
UID:1341-1779580800-1779667199@mcctulsa.com
SUMMARY:Pentecost Sunday
DESCRIPTION:
URL:https://mcctulsa.com/event/pentecost-sunday/
END:VEVENT
BEGIN:VEVENT
DTSTART;TZID=America/Chicago:20260524T100000
DTEND;TZID=America/Chicago:20260524T160000
DTSTAMP:20260423T094558
CREATED:20260207T191515Z
LAST-MODIFIED:20260207T191515Z
UID:1343-1779616800-1779638400@mcctulsa.com
SUMMARY:MCC Sport Sunday
DESCRIPTION:
URL:https://mcctulsa.com/event/mcc-sport-sunday/
END:VEVENT
BEGIN:VEVENT
DTSTART;VALUE=DATE:20260621
DTEND;VALUE=DATE:20260622
DTSTAMP:20260423T094558
CREATED:20260207T192038Z
LAST-MODIFIED:20260207T192038Z
UID:1354-1782000000-1782086399@mcctulsa.com
SUMMARY:Father's Day
DESCRIPTION:
URL:https://mcctulsa.com/event/fathers-day/
END:VEVENT
BEGIN:VEVENT
DTSTART;VALUE=DATE:20260704
DTEND;VALUE=DATE:20260705
DTSTAMP:20260423T094558
CREATED:20260207T192116Z
LAST-MODIFIED:20260207T192116Z
UID:1356-1783123200-1783209599@mcctulsa.com
SUMMARY:Independence Day
DESCRIPTION:
URL:https://mcctulsa.com/event/independence-day/
END:VEVENT
BEGIN:VEVENT
DTSTART;VALUE=DATE:20260716
DTEND;VALUE=DATE:20260719
DTSTAMP:20260423T094558
CREATED:20260207T192211Z
LAST-MODIFIED:20260207T192404Z
UID:1358-1784160000-1784419199@mcctulsa.com
SUMMARY:MCCFA Confeence
DESCRIPTION:MCCFA Confeence @ Waterloo\, Iowa
URL:https://mcctulsa.com/event/mccfa-confeence/
END:VEVENT
BEGIN:VEVENT
DTSTART;VALUE=DATE:20260907
DTEND;VALUE=DATE:20260908
DTSTAMP:20260423T094558
CREATED:20260207T192445Z
LAST-MODIFIED:20260207T192445Z
UID:1361-1788739200-1788825599@mcctulsa.com
SUMMARY:Labor Day
DESCRIPTION:
URL:https://mcctulsa.com/event/labor-day/
END:VEVENT
BEGIN:VEVENT
DTSTART;VALUE=DATE:20260920
DTEND;VALUE=DATE:20260921
DTSTAMP:20260423T094558
CREATED:20260207T192528Z
LAST-MODIFIED:20260207T192528Z
UID:1363-1789862400-1789948799@mcctulsa.com
SUMMARY:MCC Youth Sunday
DESCRIPTION:
URL:https://mcctulsa.com/event/mcc-youth-sunday/
END:VEVENT
BEGIN:VEVENT
DTSTART;TZID=America/Chicago:20261011T100000
DTEND;TZID=America/Chicago:20261011T160000
DTSTAMP:20260423T094558
CREATED:20260207T192620Z
LAST-MODIFIED:20260207T192620Z
UID:1365-1791712800-1791734400@mcctulsa.com
SUMMARY:Pastor Appreciation Day
DESCRIPTION:
URL:https://mcctulsa.com/event/pastor-appreciation-day/
END:VEVENT
BEGIN:VEVENT
DTSTART;TZID=America/Chicago:20261025T100000
DTEND;TZID=America/Chicago:20261025T160000
DTSTAMP:20260423T094558
CREATED:20260207T192709Z
LAST-MODIFIED:20260207T192709Z
UID:1367-1792922400-1792944000@mcctulsa.com
SUMMARY:MCC Children's Day
DESCRIPTION:
URL:https://mcctulsa.com/event/mcc-childrens-day/
END:VEVENT
BEGIN:VEVENT
DTSTART;VALUE=DATE:20261126
DTEND;VALUE=DATE:20261127
DTSTAMP:20260423T094558
CREATED:20260207T192753Z
LAST-MODIFIED:20260207T192753Z
UID:1369-1795651200-1795737599@mcctulsa.com
SUMMARY:Thanksgiving Day
DESCRIPTION:
URL:https://mcctulsa.com/event/thanksgiving-day/
END:VEVENT
BEGIN:VEVENT
DTSTART;VALUE=DATE:20261206
DTEND;VALUE=DATE:20261207
DTSTAMP:20260423T094558
CREATED:20260207T192822Z
LAST-MODIFIED:20260207T192822Z
UID:1371-1796515200-1796601599@mcctulsa.com
SUMMARY:MCC Sunday
DESCRIPTION:
URL:https://mcctulsa.com/event/mcc-sunday/
END:VEVENT
BEGIN:VEVENT
DTSTART;VALUE=DATE:20261225
DTEND;VALUE=DATE:20261226
DTSTAMP:20260423T094558
CREATED:20260207T192856Z
LAST-MODIFIED:20260207T192856Z
UID:1373-1798156800-1798243199@mcctulsa.com
SUMMARY:Christmas Day
DESCRIPTION:
URL:https://mcctulsa.com/event/christmas-day/
END:VEVENT
END:VCALENDAR